BEGIN:VCALENDAR
VERSION:2.0
PRODID:-//Diamond Light School Reiki Training Weston-Super-Mare - ECPv6.6.2//NONSGML v1.0//EN
CALSCALE:GREGORIAN
METHOD:PUBLISH
X-WR-CALNAME:Diamond Light School Reiki Training Weston-Super-Mare
X-ORIGINAL-URL:https://diamondlightschool.co.uk
X-WR-CALDESC:Events for Diamond Light School Reiki Training Weston-Super-Mare
REFRESH-INTERVAL;VALUE=DURATION:PT1H
X-Robots-Tag:noindex
X-PUBLISHED-TTL:PT1H
BEGIN:VTIMEZONE
TZID:UTC
BEGIN:STANDARD
TZOFFSETFROM:+0000
TZOFFSETTO:+0000
TZNAME:UTC
DTSTART:20250101T000000
END:STANDARD
END:VTIMEZONE
BEGIN:VEVENT
DTSTART;TZID=UTC:20251213T140000
DTEND;TZID=UTC:20251213T170000
DTSTAMP:20260420T180514
CREATED:20210622T111045Z
LAST-MODIFIED:20251203T120341Z
UID:1056-1765634400-1765645200@diamondlightschool.co.uk
SUMMARY:Free Reiki Share
DESCRIPTION:Free Reiki/Healing share in Weston open for all healers\, we practice Distant Healing\, Reiki Brushing and offer 1-1 and Group Healing.  Also new to the Healing share Angelic Reiki Healing practice for anyone trained in Angelic Reiki Healing.
URL:https://diamondlightschool.co.uk/event/healing-reiki-share
END:VEVENT
END:VCALENDAR