BEGIN:VCALENDAR
VERSION:2.0
PRODID:-//Diamond Light School Reiki Training Weston-Super-Mare - ECPv6.6.2//NONSGML v1.0//EN
CALSCALE:GREGORIAN
METHOD:PUBLISH
X-WR-CALNAME:Diamond Light School Reiki Training Weston-Super-Mare
X-ORIGINAL-URL:https://diamondlightschool.co.uk
X-WR-CALDESC:Events for Diamond Light School Reiki Training Weston-Super-Mare
REFRESH-INTERVAL;VALUE=DURATION:PT1H
X-Robots-Tag:noindex
X-PUBLISHED-TTL:PT1H
BEGIN:VTIMEZONE
TZID:UTC
BEGIN:STANDARD
TZOFFSETFROM:+0000
TZOFFSETTO:+0000
TZNAME:UTC
DTSTART:20250101T000000
END:STANDARD
END:VTIMEZONE
BEGIN:VEVENT
DTSTART;TZID=UTC:20250711T100000
DTEND;TZID=UTC:20250713T180000
DTSTAMP:20260422T103038
CREATED:20210415T132511Z
LAST-MODIFIED:20250529T101850Z
UID:824-1752228000-1752429600@diamondlightschool.co.uk
SUMMARY:Healing Weekend
DESCRIPTION:Healing  Festival with Workshops\, Healing & Readings Music\, and a  Cafe \n\n\n\nTo attend daytime shows\, workshops\, etc please purchase £5 wristband each day \n\n\n\nEvening shows £5 each day
URL:https://diamondlightschool.co.uk/event/healing-weekend
END:VEVENT
END:VCALENDAR